BEGIN:VCALENDAR
VERSION:2.0
PRODID:-//Hart van Laren - ECPv6.15.20//NONSGML v1.0//EN
CALSCALE:GREGORIAN
METHOD:PUBLISH
X-WR-CALNAME:Hart van Laren
X-ORIGINAL-URL:https://hartvanlaren.nl
X-WR-CALDESC:Evenementen voor Hart van Laren
REFRESH-INTERVAL;VALUE=DURATION:PT1H
X-Robots-Tag:noindex
X-PUBLISHED-TTL:PT1H
BEGIN:VTIMEZONE
TZID:Europe/Amsterdam
BEGIN:DAYLIGHT
TZOFFSETFROM:+0100
TZOFFSETTO:+0200
TZNAME:CEST
DTSTART:20240331T010000
END:DAYLIGHT
BEGIN:STANDARD
TZOFFSETFROM:+0200
TZOFFSETTO:+0100
TZNAME:CET
DTSTART:20241027T010000
END:STANDARD
BEGIN:DAYLIGHT
TZOFFSETFROM:+0100
TZOFFSETTO:+0200
TZNAME:CEST
DTSTART:20250330T010000
END:DAYLIGHT
BEGIN:STANDARD
TZOFFSETFROM:+0200
TZOFFSETTO:+0100
TZNAME:CET
DTSTART:20251026T010000
END:STANDARD
BEGIN:DAYLIGHT
TZOFFSETFROM:+0100
TZOFFSETTO:+0200
TZNAME:CEST
DTSTART:20260329T010000
END:DAYLIGHT
BEGIN:STANDARD
TZOFFSETFROM:+0200
TZOFFSETTO:+0100
TZNAME:CET
DTSTART:20261025T010000
END:STANDARD
END:VTIMEZONE
BEGIN:VEVENT
DTSTART;TZID=Europe/Amsterdam:20250822T133000
DTEND;TZID=Europe/Amsterdam:20250822T170000
DTSTAMP:20260426T062426
CREATED:20250507T131308Z
LAST-MODIFIED:20250714T092843Z
UID:10052459-1755869400-1755882000@hartvanlaren.nl
SUMMARY:Jeu de Boules workshops met Ingrid Bos
DESCRIPTION:Jeu de Boules workshops met Ingrid Bos\nZin om gezellig kennis te maken met jeu de boules samen met vrienden\, familie\, collega’s en/of andere geïnteresseerden? Kom dan naar onze prachtige kloostertuin voor een interactieve workshop onder leiding van onze jeu de boules coach Ingrid Bos. U kunt zich bij haar aanmelden op tel.nr 06-46154787. \nDatums workshops:\nWo 25 juni\nWo 2 juli\nVr 11 juli\nVr 25 juli\nWo 30 juli\nVr 8 aug\nWo 13 aug\nVr 22 aug \n3 workshops per dag\, tijden:\n13:30 – 14:30 uur\n14:45 – 15:45 uur\n16:00 – 17:00 uur \nPrijs: € 5\,00 per persoon per uur \nAantal deelnemers per uur: bij voorkeur 4\, maar minimaal 3 en maximaal 6 deelnemers.
URL:https://hartvanlaren.nl/op-de-agenda/jeu-de-boules-workshops-met-ingrid-bos/2025-08-22/
LOCATION:Brinkhuis Laren\, Brink 29\, Laren\, Noord Holland\, 1251 KT\, Nederland
CATEGORIES:Bewegen,Brinkhuis
ATTACH;FMTTYPE=image/jpeg:https://hartvanlaren.nl/wp-content/uploads/2025/05/20250822-Jeu-de-Boules-Workshops.jpg
ORGANIZER;CN="Ingrid Bos":MAILTO:Ingrid.Bos.postbox@hotmail.com
GEO:52.2565804;5.2261285
X-APPLE-STRUCTURED-LOCATION;VALUE=URI;X-ADDRESS=Brinkhuis Laren Brink 29 Laren Noord Holland 1251 KT Nederland;X-APPLE-RADIUS=500;X-TITLE=Brink 29:geo:5.2261285,52.2565804
END:VEVENT
BEGIN:VEVENT
DTSTART;TZID=Europe/Amsterdam:20250813T133000
DTEND;TZID=Europe/Amsterdam:20250813T170000
DTSTAMP:20260426T062426
CREATED:20250507T131308Z
LAST-MODIFIED:20250714T092843Z
UID:10052458-1755091800-1755104400@hartvanlaren.nl
SUMMARY:Jeu de Boules workshops met Ingrid Bos
DESCRIPTION:Jeu de Boules workshops met Ingrid Bos\nZin om gezellig kennis te maken met jeu de boules samen met vrienden\, familie\, collega’s en/of andere geïnteresseerden? Kom dan naar onze prachtige kloostertuin voor een interactieve workshop onder leiding van onze jeu de boules coach Ingrid Bos. U kunt zich bij haar aanmelden op tel.nr 06-46154787. \nDatums workshops:\nWo 25 juni\nWo 2 juli\nVr 11 juli\nVr 25 juli\nWo 30 juli\nVr 8 aug\nWo 13 aug\nVr 22 aug \n3 workshops per dag\, tijden:\n13:30 – 14:30 uur\n14:45 – 15:45 uur\n16:00 – 17:00 uur \nPrijs: € 5\,00 per persoon per uur \nAantal deelnemers per uur: bij voorkeur 4\, maar minimaal 3 en maximaal 6 deelnemers.
URL:https://hartvanlaren.nl/op-de-agenda/jeu-de-boules-workshops-met-ingrid-bos/2025-08-13/
LOCATION:Brinkhuis Laren\, Brink 29\, Laren\, Noord Holland\, 1251 KT\, Nederland
CATEGORIES:Bewegen,Brinkhuis
ATTACH;FMTTYPE=image/jpeg:https://hartvanlaren.nl/wp-content/uploads/2025/05/20250822-Jeu-de-Boules-Workshops.jpg
ORGANIZER;CN="Ingrid Bos":MAILTO:Ingrid.Bos.postbox@hotmail.com
GEO:52.2565804;5.2261285
X-APPLE-STRUCTURED-LOCATION;VALUE=URI;X-ADDRESS=Brinkhuis Laren Brink 29 Laren Noord Holland 1251 KT Nederland;X-APPLE-RADIUS=500;X-TITLE=Brink 29:geo:5.2261285,52.2565804
END:VEVENT
BEGIN:VEVENT
DTSTART;TZID=Europe/Amsterdam:20250808T133000
DTEND;TZID=Europe/Amsterdam:20250808T170000
DTSTAMP:20260426T062426
CREATED:20250507T131308Z
LAST-MODIFIED:20250714T092843Z
UID:10052457-1754659800-1754672400@hartvanlaren.nl
SUMMARY:Jeu de Boules workshops met Ingrid Bos
DESCRIPTION:Jeu de Boules workshops met Ingrid Bos\nZin om gezellig kennis te maken met jeu de boules samen met vrienden\, familie\, collega’s en/of andere geïnteresseerden? Kom dan naar onze prachtige kloostertuin voor een interactieve workshop onder leiding van onze jeu de boules coach Ingrid Bos. U kunt zich bij haar aanmelden op tel.nr 06-46154787. \nDatums workshops:\nWo 25 juni\nWo 2 juli\nVr 11 juli\nVr 25 juli\nWo 30 juli\nVr 8 aug\nWo 13 aug\nVr 22 aug \n3 workshops per dag\, tijden:\n13:30 – 14:30 uur\n14:45 – 15:45 uur\n16:00 – 17:00 uur \nPrijs: € 5\,00 per persoon per uur \nAantal deelnemers per uur: bij voorkeur 4\, maar minimaal 3 en maximaal 6 deelnemers.
URL:https://hartvanlaren.nl/op-de-agenda/jeu-de-boules-workshops-met-ingrid-bos/2025-08-08/
LOCATION:Brinkhuis Laren\, Brink 29\, Laren\, Noord Holland\, 1251 KT\, Nederland
CATEGORIES:Bewegen,Brinkhuis
ATTACH;FMTTYPE=image/jpeg:https://hartvanlaren.nl/wp-content/uploads/2025/05/20250822-Jeu-de-Boules-Workshops.jpg
ORGANIZER;CN="Ingrid Bos":MAILTO:Ingrid.Bos.postbox@hotmail.com
GEO:52.2565804;5.2261285
X-APPLE-STRUCTURED-LOCATION;VALUE=URI;X-ADDRESS=Brinkhuis Laren Brink 29 Laren Noord Holland 1251 KT Nederland;X-APPLE-RADIUS=500;X-TITLE=Brink 29:geo:5.2261285,52.2565804
END:VEVENT
BEGIN:VEVENT
DTSTART;TZID=Europe/Amsterdam:20250730T133000
DTEND;TZID=Europe/Amsterdam:20250730T170000
DTSTAMP:20260426T062426
CREATED:20250507T131308Z
LAST-MODIFIED:20250714T092843Z
UID:10052456-1753882200-1753894800@hartvanlaren.nl
SUMMARY:Jeu de Boules workshops met Ingrid Bos
DESCRIPTION:Jeu de Boules workshops met Ingrid Bos\nZin om gezellig kennis te maken met jeu de boules samen met vrienden\, familie\, collega’s en/of andere geïnteresseerden? Kom dan naar onze prachtige kloostertuin voor een interactieve workshop onder leiding van onze jeu de boules coach Ingrid Bos. U kunt zich bij haar aanmelden op tel.nr 06-46154787. \nDatums workshops:\nWo 25 juni\nWo 2 juli\nVr 11 juli\nVr 25 juli\nWo 30 juli\nVr 8 aug\nWo 13 aug\nVr 22 aug \n3 workshops per dag\, tijden:\n13:30 – 14:30 uur\n14:45 – 15:45 uur\n16:00 – 17:00 uur \nPrijs: € 5\,00 per persoon per uur \nAantal deelnemers per uur: bij voorkeur 4\, maar minimaal 3 en maximaal 6 deelnemers.
URL:https://hartvanlaren.nl/op-de-agenda/jeu-de-boules-workshops-met-ingrid-bos/2025-07-30/
LOCATION:Brinkhuis Laren\, Brink 29\, Laren\, Noord Holland\, 1251 KT\, Nederland
CATEGORIES:Bewegen,Brinkhuis
ATTACH;FMTTYPE=image/jpeg:https://hartvanlaren.nl/wp-content/uploads/2025/05/20250822-Jeu-de-Boules-Workshops.jpg
ORGANIZER;CN="Ingrid Bos":MAILTO:Ingrid.Bos.postbox@hotmail.com
GEO:52.2565804;5.2261285
X-APPLE-STRUCTURED-LOCATION;VALUE=URI;X-ADDRESS=Brinkhuis Laren Brink 29 Laren Noord Holland 1251 KT Nederland;X-APPLE-RADIUS=500;X-TITLE=Brink 29:geo:5.2261285,52.2565804
END:VEVENT
BEGIN:VEVENT
DTSTART;TZID=Europe/Amsterdam:20250725T133000
DTEND;TZID=Europe/Amsterdam:20250725T170000
DTSTAMP:20260426T062426
CREATED:20250507T131308Z
LAST-MODIFIED:20250714T092843Z
UID:10079169-1753450200-1753462800@hartvanlaren.nl
SUMMARY:Jeu de Boules workshops met Ingrid Bos
DESCRIPTION:Jeu de Boules workshops met Ingrid Bos\nZin om gezellig kennis te maken met jeu de boules samen met vrienden\, familie\, collega’s en/of andere geïnteresseerden? Kom dan naar onze prachtige kloostertuin voor een interactieve workshop onder leiding van onze jeu de boules coach Ingrid Bos. U kunt zich bij haar aanmelden op tel.nr 06-46154787. \nDatums workshops:\nWo 25 juni\nWo 2 juli\nVr 11 juli\nVr 25 juli\nWo 30 juli\nVr 8 aug\nWo 13 aug\nVr 22 aug \n3 workshops per dag\, tijden:\n13:30 – 14:30 uur\n14:45 – 15:45 uur\n16:00 – 17:00 uur \nPrijs: € 5\,00 per persoon per uur \nAantal deelnemers per uur: bij voorkeur 4\, maar minimaal 3 en maximaal 6 deelnemers.
URL:https://hartvanlaren.nl/op-de-agenda/jeu-de-boules-workshops-met-ingrid-bos/2025-07-25/
LOCATION:Brinkhuis Laren\, Brink 29\, Laren\, Noord Holland\, 1251 KT\, Nederland
CATEGORIES:Bewegen,Brinkhuis
ATTACH;FMTTYPE=image/jpeg:https://hartvanlaren.nl/wp-content/uploads/2025/05/20250822-Jeu-de-Boules-Workshops.jpg
ORGANIZER;CN="Ingrid Bos":MAILTO:Ingrid.Bos.postbox@hotmail.com
GEO:52.2565804;5.2261285
X-APPLE-STRUCTURED-LOCATION;VALUE=URI;X-ADDRESS=Brinkhuis Laren Brink 29 Laren Noord Holland 1251 KT Nederland;X-APPLE-RADIUS=500;X-TITLE=Brink 29:geo:5.2261285,52.2565804
END:VEVENT
END:VCALENDAR