BEGIN:VCALENDAR
VERSION:2.0
PRODID:-//Hart van Laren - ECPv6.15.20//NONSGML v1.0//EN
CALSCALE:GREGORIAN
METHOD:PUBLISH
X-ORIGINAL-URL:https://hartvanlaren.nl
X-WR-CALDESC:Evenementen voor Hart van Laren
REFRESH-INTERVAL;VALUE=DURATION:PT1H
X-Robots-Tag:noindex
X-PUBLISHED-TTL:PT1H
BEGIN:VTIMEZONE
TZID:Europe/Amsterdam
BEGIN:DAYLIGHT
TZOFFSETFROM:+0100
TZOFFSETTO:+0200
TZNAME:CEST
DTSTART:20250330T010000
END:DAYLIGHT
BEGIN:STANDARD
TZOFFSETFROM:+0200
TZOFFSETTO:+0100
TZNAME:CET
DTSTART:20251026T010000
END:STANDARD
BEGIN:DAYLIGHT
TZOFFSETFROM:+0100
TZOFFSETTO:+0200
TZNAME:CEST
DTSTART:20260329T010000
END:DAYLIGHT
BEGIN:STANDARD
TZOFFSETFROM:+0200
TZOFFSETTO:+0100
TZNAME:CET
DTSTART:20261025T010000
END:STANDARD
BEGIN:DAYLIGHT
TZOFFSETFROM:+0100
TZOFFSETTO:+0200
TZNAME:CEST
DTSTART:20270328T010000
END:DAYLIGHT
BEGIN:STANDARD
TZOFFSETFROM:+0200
TZOFFSETTO:+0100
TZNAME:CET
DTSTART:20271031T010000
END:STANDARD
END:VTIMEZONE
BEGIN:VEVENT
DTSTART;TZID=Europe/Amsterdam:20260430T140000
DTEND;TZID=Europe/Amsterdam:20260430T160000
DTSTAMP:20260425T152026
CREATED:20250608T090123Z
LAST-MODIFIED:20260220T174733Z
UID:10078779-1777557600-1777564800@hartvanlaren.nl
SUMMARY:Humanitas Thuisadministratie
DESCRIPTION:Humanitas Thuisadministratie Laren\nHumanitas Thuisadministratie helpt je je financiën en administratie op orde te brengen én te houden. Iedere donderdag in het Brinkhuis Laren. \nFinanciële of administratieve zaken zijn niet ieders hobby. En door omstandigheden kun je het overzicht kwijtraken. Bijvoorbeeld als je partner overlijdt\, of als je gaat scheiden of je baan kwijtraakt. Dan kan het gebeuren dat er schoenendozen vol bankafschriften op je wachten\, of dat er rekeningen zijn die je allang had moeten betalen. Blijf niet te lang rond tobben\, maar laat je helpen. Humanitas Thuisadministratie is er speciaal voor. \nEen vrijwilliger helpt je je financiële zaken op orde te brengen en op orde te houden. Niet één keer\, maar wekelijks. We zetten samen je inkomsten en uitgaven op een rij\, gaan na waar je recht op hebt en maken een overzichtelijk huishoudboekje. Daarna kun je zelf je weg vinden in je eigen administratie en financiën. Een hele zorg minder. Bijna iedereen voelt zich na korte tijd enorm geholpen en na langere tijd kunnen mensen vaak weer zelfstandig verder. \nFormulieren Inloop\nHulp nodig bij het invullen van formulieren of aanvragen? In ’t Gooi is er op verschillende plekken een Formulieren Inloop waar je gratis terecht kunt. \nElke donderdag in het Brinkhuis in Laren van 14:00-16:00 (niet tijdens schoolvakanties) \nBijvoorbeeld voor: \n\naanvragen van een DigiD\naanvragen van toeslagen\nuitkeringen/ schuldhulp\nbelastingaangifte\neen lastig formulier of ontvangen brief\nde energierekening of ziektekostenverzekering\naanvragen uitstel van betaling\n\nSamen met onze vrijwilligers zorgen we ervoor dat jij weer verder kunt. Een afspraak maken is niet nodig. \nThemas\n\nDecember; Hoe kom ik de dure feestmaand door\, kom ik in aanmerking voor de voedselbank?\nJanuari; Nog drie maanden de verwarming aan hoe kan ik de kosten drukken?\nFebruari\, kom ik in aanmerking voor kwijtschelding van de gemeentelijke belastingen?\nMaart\, hulp bij het invullen van de inkomstenbelasting.
URL:https://hartvanlaren.nl/op-de-agenda/humanitas-thuisadministratie/2026-04-30/
LOCATION:Brinkhuis Laren\, Brink 29\, Laren\, Noord Holland\, 1251 KT\, Nederland
CATEGORIES:Informatief,Inloopspreekuren,Senioren
ATTACH;FMTTYPE=image/jpeg:https://hartvanlaren.nl/wp-content/uploads/2025/01/DSC_3621.jpg
ORGANIZER;CN="Humanitas":MAILTO:tgooi@humanitas.nl
GEO:52.2565804;5.2261285
X-APPLE-STRUCTURED-LOCATION;VALUE=URI;X-ADDRESS=Brinkhuis Laren Brink 29 Laren Noord Holland 1251 KT Nederland;X-APPLE-RADIUS=500;X-TITLE=Brink 29:geo:5.2261285,52.2565804
END:VEVENT
BEGIN:VEVENT
DTSTART;TZID=Europe/Amsterdam:20260507T140000
DTEND;TZID=Europe/Amsterdam:20260507T160000
DTSTAMP:20260425T152026
CREATED:20250608T090123Z
LAST-MODIFIED:20260220T174733Z
UID:10078780-1778162400-1778169600@hartvanlaren.nl
SUMMARY:Humanitas Thuisadministratie
DESCRIPTION:Humanitas Thuisadministratie Laren\nHumanitas Thuisadministratie helpt je je financiën en administratie op orde te brengen én te houden. Iedere donderdag in het Brinkhuis Laren. \nFinanciële of administratieve zaken zijn niet ieders hobby. En door omstandigheden kun je het overzicht kwijtraken. Bijvoorbeeld als je partner overlijdt\, of als je gaat scheiden of je baan kwijtraakt. Dan kan het gebeuren dat er schoenendozen vol bankafschriften op je wachten\, of dat er rekeningen zijn die je allang had moeten betalen. Blijf niet te lang rond tobben\, maar laat je helpen. Humanitas Thuisadministratie is er speciaal voor. \nEen vrijwilliger helpt je je financiële zaken op orde te brengen en op orde te houden. Niet één keer\, maar wekelijks. We zetten samen je inkomsten en uitgaven op een rij\, gaan na waar je recht op hebt en maken een overzichtelijk huishoudboekje. Daarna kun je zelf je weg vinden in je eigen administratie en financiën. Een hele zorg minder. Bijna iedereen voelt zich na korte tijd enorm geholpen en na langere tijd kunnen mensen vaak weer zelfstandig verder. \nFormulieren Inloop\nHulp nodig bij het invullen van formulieren of aanvragen? In ’t Gooi is er op verschillende plekken een Formulieren Inloop waar je gratis terecht kunt. \nElke donderdag in het Brinkhuis in Laren van 14:00-16:00 (niet tijdens schoolvakanties) \nBijvoorbeeld voor: \n\naanvragen van een DigiD\naanvragen van toeslagen\nuitkeringen/ schuldhulp\nbelastingaangifte\neen lastig formulier of ontvangen brief\nde energierekening of ziektekostenverzekering\naanvragen uitstel van betaling\n\nSamen met onze vrijwilligers zorgen we ervoor dat jij weer verder kunt. Een afspraak maken is niet nodig. \nThemas\n\nDecember; Hoe kom ik de dure feestmaand door\, kom ik in aanmerking voor de voedselbank?\nJanuari; Nog drie maanden de verwarming aan hoe kan ik de kosten drukken?\nFebruari\, kom ik in aanmerking voor kwijtschelding van de gemeentelijke belastingen?\nMaart\, hulp bij het invullen van de inkomstenbelasting.
URL:https://hartvanlaren.nl/op-de-agenda/humanitas-thuisadministratie/2026-05-07/
LOCATION:Brinkhuis Laren\, Brink 29\, Laren\, Noord Holland\, 1251 KT\, Nederland
CATEGORIES:Informatief,Inloopspreekuren,Senioren
ATTACH;FMTTYPE=image/jpeg:https://hartvanlaren.nl/wp-content/uploads/2025/01/DSC_3621.jpg
ORGANIZER;CN="Humanitas":MAILTO:tgooi@humanitas.nl
GEO:52.2565804;5.2261285
X-APPLE-STRUCTURED-LOCATION;VALUE=URI;X-ADDRESS=Brinkhuis Laren Brink 29 Laren Noord Holland 1251 KT Nederland;X-APPLE-RADIUS=500;X-TITLE=Brink 29:geo:5.2261285,52.2565804
END:VEVENT
BEGIN:VEVENT
DTSTART;TZID=Europe/Amsterdam:20260514T140000
DTEND;TZID=Europe/Amsterdam:20260514T160000
DTSTAMP:20260425T152026
CREATED:20250608T090123Z
LAST-MODIFIED:20260220T174733Z
UID:10078781-1778767200-1778774400@hartvanlaren.nl
SUMMARY:Humanitas Thuisadministratie
DESCRIPTION:Humanitas Thuisadministratie Laren\nHumanitas Thuisadministratie helpt je je financiën en administratie op orde te brengen én te houden. Iedere donderdag in het Brinkhuis Laren. \nFinanciële of administratieve zaken zijn niet ieders hobby. En door omstandigheden kun je het overzicht kwijtraken. Bijvoorbeeld als je partner overlijdt\, of als je gaat scheiden of je baan kwijtraakt. Dan kan het gebeuren dat er schoenendozen vol bankafschriften op je wachten\, of dat er rekeningen zijn die je allang had moeten betalen. Blijf niet te lang rond tobben\, maar laat je helpen. Humanitas Thuisadministratie is er speciaal voor. \nEen vrijwilliger helpt je je financiële zaken op orde te brengen en op orde te houden. Niet één keer\, maar wekelijks. We zetten samen je inkomsten en uitgaven op een rij\, gaan na waar je recht op hebt en maken een overzichtelijk huishoudboekje. Daarna kun je zelf je weg vinden in je eigen administratie en financiën. Een hele zorg minder. Bijna iedereen voelt zich na korte tijd enorm geholpen en na langere tijd kunnen mensen vaak weer zelfstandig verder. \nFormulieren Inloop\nHulp nodig bij het invullen van formulieren of aanvragen? In ’t Gooi is er op verschillende plekken een Formulieren Inloop waar je gratis terecht kunt. \nElke donderdag in het Brinkhuis in Laren van 14:00-16:00 (niet tijdens schoolvakanties) \nBijvoorbeeld voor: \n\naanvragen van een DigiD\naanvragen van toeslagen\nuitkeringen/ schuldhulp\nbelastingaangifte\neen lastig formulier of ontvangen brief\nde energierekening of ziektekostenverzekering\naanvragen uitstel van betaling\n\nSamen met onze vrijwilligers zorgen we ervoor dat jij weer verder kunt. Een afspraak maken is niet nodig. \nThemas\n\nDecember; Hoe kom ik de dure feestmaand door\, kom ik in aanmerking voor de voedselbank?\nJanuari; Nog drie maanden de verwarming aan hoe kan ik de kosten drukken?\nFebruari\, kom ik in aanmerking voor kwijtschelding van de gemeentelijke belastingen?\nMaart\, hulp bij het invullen van de inkomstenbelasting.
URL:https://hartvanlaren.nl/op-de-agenda/humanitas-thuisadministratie/2026-05-14/
LOCATION:Brinkhuis Laren\, Brink 29\, Laren\, Noord Holland\, 1251 KT\, Nederland
CATEGORIES:Informatief,Inloopspreekuren,Senioren
ATTACH;FMTTYPE=image/jpeg:https://hartvanlaren.nl/wp-content/uploads/2025/01/DSC_3621.jpg
ORGANIZER;CN="Humanitas":MAILTO:tgooi@humanitas.nl
GEO:52.2565804;5.2261285
X-APPLE-STRUCTURED-LOCATION;VALUE=URI;X-ADDRESS=Brinkhuis Laren Brink 29 Laren Noord Holland 1251 KT Nederland;X-APPLE-RADIUS=500;X-TITLE=Brink 29:geo:5.2261285,52.2565804
END:VEVENT
BEGIN:VEVENT
DTSTART;TZID=Europe/Amsterdam:20260521T140000
DTEND;TZID=Europe/Amsterdam:20260521T160000
DTSTAMP:20260425T152026
CREATED:20250608T090123Z
LAST-MODIFIED:20260220T174733Z
UID:10078782-1779372000-1779379200@hartvanlaren.nl
SUMMARY:Humanitas Thuisadministratie
DESCRIPTION:Humanitas Thuisadministratie Laren\nHumanitas Thuisadministratie helpt je je financiën en administratie op orde te brengen én te houden. Iedere donderdag in het Brinkhuis Laren. \nFinanciële of administratieve zaken zijn niet ieders hobby. En door omstandigheden kun je het overzicht kwijtraken. Bijvoorbeeld als je partner overlijdt\, of als je gaat scheiden of je baan kwijtraakt. Dan kan het gebeuren dat er schoenendozen vol bankafschriften op je wachten\, of dat er rekeningen zijn die je allang had moeten betalen. Blijf niet te lang rond tobben\, maar laat je helpen. Humanitas Thuisadministratie is er speciaal voor. \nEen vrijwilliger helpt je je financiële zaken op orde te brengen en op orde te houden. Niet één keer\, maar wekelijks. We zetten samen je inkomsten en uitgaven op een rij\, gaan na waar je recht op hebt en maken een overzichtelijk huishoudboekje. Daarna kun je zelf je weg vinden in je eigen administratie en financiën. Een hele zorg minder. Bijna iedereen voelt zich na korte tijd enorm geholpen en na langere tijd kunnen mensen vaak weer zelfstandig verder. \nFormulieren Inloop\nHulp nodig bij het invullen van formulieren of aanvragen? In ’t Gooi is er op verschillende plekken een Formulieren Inloop waar je gratis terecht kunt. \nElke donderdag in het Brinkhuis in Laren van 14:00-16:00 (niet tijdens schoolvakanties) \nBijvoorbeeld voor: \n\naanvragen van een DigiD\naanvragen van toeslagen\nuitkeringen/ schuldhulp\nbelastingaangifte\neen lastig formulier of ontvangen brief\nde energierekening of ziektekostenverzekering\naanvragen uitstel van betaling\n\nSamen met onze vrijwilligers zorgen we ervoor dat jij weer verder kunt. Een afspraak maken is niet nodig. \nThemas\n\nDecember; Hoe kom ik de dure feestmaand door\, kom ik in aanmerking voor de voedselbank?\nJanuari; Nog drie maanden de verwarming aan hoe kan ik de kosten drukken?\nFebruari\, kom ik in aanmerking voor kwijtschelding van de gemeentelijke belastingen?\nMaart\, hulp bij het invullen van de inkomstenbelasting.
URL:https://hartvanlaren.nl/op-de-agenda/humanitas-thuisadministratie/2026-05-21/
LOCATION:Brinkhuis Laren\, Brink 29\, Laren\, Noord Holland\, 1251 KT\, Nederland
CATEGORIES:Informatief,Inloopspreekuren,Senioren
ATTACH;FMTTYPE=image/jpeg:https://hartvanlaren.nl/wp-content/uploads/2025/01/DSC_3621.jpg
ORGANIZER;CN="Humanitas":MAILTO:tgooi@humanitas.nl
GEO:52.2565804;5.2261285
X-APPLE-STRUCTURED-LOCATION;VALUE=URI;X-ADDRESS=Brinkhuis Laren Brink 29 Laren Noord Holland 1251 KT Nederland;X-APPLE-RADIUS=500;X-TITLE=Brink 29:geo:5.2261285,52.2565804
END:VEVENT
BEGIN:VEVENT
DTSTART;TZID=Europe/Amsterdam:20260528T140000
DTEND;TZID=Europe/Amsterdam:20260528T160000
DTSTAMP:20260425T152026
CREATED:20250608T090123Z
LAST-MODIFIED:20260220T174733Z
UID:10078783-1779976800-1779984000@hartvanlaren.nl
SUMMARY:Humanitas Thuisadministratie
DESCRIPTION:Humanitas Thuisadministratie Laren\nHumanitas Thuisadministratie helpt je je financiën en administratie op orde te brengen én te houden. Iedere donderdag in het Brinkhuis Laren. \nFinanciële of administratieve zaken zijn niet ieders hobby. En door omstandigheden kun je het overzicht kwijtraken. Bijvoorbeeld als je partner overlijdt\, of als je gaat scheiden of je baan kwijtraakt. Dan kan het gebeuren dat er schoenendozen vol bankafschriften op je wachten\, of dat er rekeningen zijn die je allang had moeten betalen. Blijf niet te lang rond tobben\, maar laat je helpen. Humanitas Thuisadministratie is er speciaal voor. \nEen vrijwilliger helpt je je financiële zaken op orde te brengen en op orde te houden. Niet één keer\, maar wekelijks. We zetten samen je inkomsten en uitgaven op een rij\, gaan na waar je recht op hebt en maken een overzichtelijk huishoudboekje. Daarna kun je zelf je weg vinden in je eigen administratie en financiën. Een hele zorg minder. Bijna iedereen voelt zich na korte tijd enorm geholpen en na langere tijd kunnen mensen vaak weer zelfstandig verder. \nFormulieren Inloop\nHulp nodig bij het invullen van formulieren of aanvragen? In ’t Gooi is er op verschillende plekken een Formulieren Inloop waar je gratis terecht kunt. \nElke donderdag in het Brinkhuis in Laren van 14:00-16:00 (niet tijdens schoolvakanties) \nBijvoorbeeld voor: \n\naanvragen van een DigiD\naanvragen van toeslagen\nuitkeringen/ schuldhulp\nbelastingaangifte\neen lastig formulier of ontvangen brief\nde energierekening of ziektekostenverzekering\naanvragen uitstel van betaling\n\nSamen met onze vrijwilligers zorgen we ervoor dat jij weer verder kunt. Een afspraak maken is niet nodig. \nThemas\n\nDecember; Hoe kom ik de dure feestmaand door\, kom ik in aanmerking voor de voedselbank?\nJanuari; Nog drie maanden de verwarming aan hoe kan ik de kosten drukken?\nFebruari\, kom ik in aanmerking voor kwijtschelding van de gemeentelijke belastingen?\nMaart\, hulp bij het invullen van de inkomstenbelasting.
URL:https://hartvanlaren.nl/op-de-agenda/humanitas-thuisadministratie/2026-05-28/
LOCATION:Brinkhuis Laren\, Brink 29\, Laren\, Noord Holland\, 1251 KT\, Nederland
CATEGORIES:Informatief,Inloopspreekuren,Senioren
ATTACH;FMTTYPE=image/jpeg:https://hartvanlaren.nl/wp-content/uploads/2025/01/DSC_3621.jpg
ORGANIZER;CN="Humanitas":MAILTO:tgooi@humanitas.nl
GEO:52.2565804;5.2261285
X-APPLE-STRUCTURED-LOCATION;VALUE=URI;X-ADDRESS=Brinkhuis Laren Brink 29 Laren Noord Holland 1251 KT Nederland;X-APPLE-RADIUS=500;X-TITLE=Brink 29:geo:5.2261285,52.2565804
END:VEVENT
BEGIN:VEVENT
DTSTART;TZID=Europe/Amsterdam:20260604T140000
DTEND;TZID=Europe/Amsterdam:20260604T160000
DTSTAMP:20260425T152026
CREATED:20250608T090123Z
LAST-MODIFIED:20260220T174733Z
UID:10078784-1780581600-1780588800@hartvanlaren.nl
SUMMARY:Humanitas Thuisadministratie
DESCRIPTION:Humanitas Thuisadministratie Laren\nHumanitas Thuisadministratie helpt je je financiën en administratie op orde te brengen én te houden. Iedere donderdag in het Brinkhuis Laren. \nFinanciële of administratieve zaken zijn niet ieders hobby. En door omstandigheden kun je het overzicht kwijtraken. Bijvoorbeeld als je partner overlijdt\, of als je gaat scheiden of je baan kwijtraakt. Dan kan het gebeuren dat er schoenendozen vol bankafschriften op je wachten\, of dat er rekeningen zijn die je allang had moeten betalen. Blijf niet te lang rond tobben\, maar laat je helpen. Humanitas Thuisadministratie is er speciaal voor. \nEen vrijwilliger helpt je je financiële zaken op orde te brengen en op orde te houden. Niet één keer\, maar wekelijks. We zetten samen je inkomsten en uitgaven op een rij\, gaan na waar je recht op hebt en maken een overzichtelijk huishoudboekje. Daarna kun je zelf je weg vinden in je eigen administratie en financiën. Een hele zorg minder. Bijna iedereen voelt zich na korte tijd enorm geholpen en na langere tijd kunnen mensen vaak weer zelfstandig verder. \nFormulieren Inloop\nHulp nodig bij het invullen van formulieren of aanvragen? In ’t Gooi is er op verschillende plekken een Formulieren Inloop waar je gratis terecht kunt. \nElke donderdag in het Brinkhuis in Laren van 14:00-16:00 (niet tijdens schoolvakanties) \nBijvoorbeeld voor: \n\naanvragen van een DigiD\naanvragen van toeslagen\nuitkeringen/ schuldhulp\nbelastingaangifte\neen lastig formulier of ontvangen brief\nde energierekening of ziektekostenverzekering\naanvragen uitstel van betaling\n\nSamen met onze vrijwilligers zorgen we ervoor dat jij weer verder kunt. Een afspraak maken is niet nodig. \nThemas\n\nDecember; Hoe kom ik de dure feestmaand door\, kom ik in aanmerking voor de voedselbank?\nJanuari; Nog drie maanden de verwarming aan hoe kan ik de kosten drukken?\nFebruari\, kom ik in aanmerking voor kwijtschelding van de gemeentelijke belastingen?\nMaart\, hulp bij het invullen van de inkomstenbelasting.
URL:https://hartvanlaren.nl/op-de-agenda/humanitas-thuisadministratie/2026-06-04/
LOCATION:Brinkhuis Laren\, Brink 29\, Laren\, Noord Holland\, 1251 KT\, Nederland
CATEGORIES:Informatief,Inloopspreekuren,Senioren
ATTACH;FMTTYPE=image/jpeg:https://hartvanlaren.nl/wp-content/uploads/2025/01/DSC_3621.jpg
ORGANIZER;CN="Humanitas":MAILTO:tgooi@humanitas.nl
GEO:52.2565804;5.2261285
X-APPLE-STRUCTURED-LOCATION;VALUE=URI;X-ADDRESS=Brinkhuis Laren Brink 29 Laren Noord Holland 1251 KT Nederland;X-APPLE-RADIUS=500;X-TITLE=Brink 29:geo:5.2261285,52.2565804
END:VEVENT
BEGIN:VEVENT
DTSTART;TZID=Europe/Amsterdam:20260611T140000
DTEND;TZID=Europe/Amsterdam:20260611T160000
DTSTAMP:20260425T152026
CREATED:20250608T090123Z
LAST-MODIFIED:20260220T174733Z
UID:10078785-1781186400-1781193600@hartvanlaren.nl
SUMMARY:Humanitas Thuisadministratie
DESCRIPTION:Humanitas Thuisadministratie Laren\nHumanitas Thuisadministratie helpt je je financiën en administratie op orde te brengen én te houden. Iedere donderdag in het Brinkhuis Laren. \nFinanciële of administratieve zaken zijn niet ieders hobby. En door omstandigheden kun je het overzicht kwijtraken. Bijvoorbeeld als je partner overlijdt\, of als je gaat scheiden of je baan kwijtraakt. Dan kan het gebeuren dat er schoenendozen vol bankafschriften op je wachten\, of dat er rekeningen zijn die je allang had moeten betalen. Blijf niet te lang rond tobben\, maar laat je helpen. Humanitas Thuisadministratie is er speciaal voor. \nEen vrijwilliger helpt je je financiële zaken op orde te brengen en op orde te houden. Niet één keer\, maar wekelijks. We zetten samen je inkomsten en uitgaven op een rij\, gaan na waar je recht op hebt en maken een overzichtelijk huishoudboekje. Daarna kun je zelf je weg vinden in je eigen administratie en financiën. Een hele zorg minder. Bijna iedereen voelt zich na korte tijd enorm geholpen en na langere tijd kunnen mensen vaak weer zelfstandig verder. \nFormulieren Inloop\nHulp nodig bij het invullen van formulieren of aanvragen? In ’t Gooi is er op verschillende plekken een Formulieren Inloop waar je gratis terecht kunt. \nElke donderdag in het Brinkhuis in Laren van 14:00-16:00 (niet tijdens schoolvakanties) \nBijvoorbeeld voor: \n\naanvragen van een DigiD\naanvragen van toeslagen\nuitkeringen/ schuldhulp\nbelastingaangifte\neen lastig formulier of ontvangen brief\nde energierekening of ziektekostenverzekering\naanvragen uitstel van betaling\n\nSamen met onze vrijwilligers zorgen we ervoor dat jij weer verder kunt. Een afspraak maken is niet nodig. \nThemas\n\nDecember; Hoe kom ik de dure feestmaand door\, kom ik in aanmerking voor de voedselbank?\nJanuari; Nog drie maanden de verwarming aan hoe kan ik de kosten drukken?\nFebruari\, kom ik in aanmerking voor kwijtschelding van de gemeentelijke belastingen?\nMaart\, hulp bij het invullen van de inkomstenbelasting.
URL:https://hartvanlaren.nl/op-de-agenda/humanitas-thuisadministratie/2026-06-11/
LOCATION:Brinkhuis Laren\, Brink 29\, Laren\, Noord Holland\, 1251 KT\, Nederland
CATEGORIES:Informatief,Inloopspreekuren,Senioren
ATTACH;FMTTYPE=image/jpeg:https://hartvanlaren.nl/wp-content/uploads/2025/01/DSC_3621.jpg
ORGANIZER;CN="Humanitas":MAILTO:tgooi@humanitas.nl
GEO:52.2565804;5.2261285
X-APPLE-STRUCTURED-LOCATION;VALUE=URI;X-ADDRESS=Brinkhuis Laren Brink 29 Laren Noord Holland 1251 KT Nederland;X-APPLE-RADIUS=500;X-TITLE=Brink 29:geo:5.2261285,52.2565804
END:VEVENT
BEGIN:VEVENT
DTSTART;TZID=Europe/Amsterdam:20260618T140000
DTEND;TZID=Europe/Amsterdam:20260618T160000
DTSTAMP:20260425T152026
CREATED:20250608T090123Z
LAST-MODIFIED:20260220T174733Z
UID:10078786-1781791200-1781798400@hartvanlaren.nl
SUMMARY:Humanitas Thuisadministratie
DESCRIPTION:Humanitas Thuisadministratie Laren\nHumanitas Thuisadministratie helpt je je financiën en administratie op orde te brengen én te houden. Iedere donderdag in het Brinkhuis Laren. \nFinanciële of administratieve zaken zijn niet ieders hobby. En door omstandigheden kun je het overzicht kwijtraken. Bijvoorbeeld als je partner overlijdt\, of als je gaat scheiden of je baan kwijtraakt. Dan kan het gebeuren dat er schoenendozen vol bankafschriften op je wachten\, of dat er rekeningen zijn die je allang had moeten betalen. Blijf niet te lang rond tobben\, maar laat je helpen. Humanitas Thuisadministratie is er speciaal voor. \nEen vrijwilliger helpt je je financiële zaken op orde te brengen en op orde te houden. Niet één keer\, maar wekelijks. We zetten samen je inkomsten en uitgaven op een rij\, gaan na waar je recht op hebt en maken een overzichtelijk huishoudboekje. Daarna kun je zelf je weg vinden in je eigen administratie en financiën. Een hele zorg minder. Bijna iedereen voelt zich na korte tijd enorm geholpen en na langere tijd kunnen mensen vaak weer zelfstandig verder. \nFormulieren Inloop\nHulp nodig bij het invullen van formulieren of aanvragen? In ’t Gooi is er op verschillende plekken een Formulieren Inloop waar je gratis terecht kunt. \nElke donderdag in het Brinkhuis in Laren van 14:00-16:00 (niet tijdens schoolvakanties) \nBijvoorbeeld voor: \n\naanvragen van een DigiD\naanvragen van toeslagen\nuitkeringen/ schuldhulp\nbelastingaangifte\neen lastig formulier of ontvangen brief\nde energierekening of ziektekostenverzekering\naanvragen uitstel van betaling\n\nSamen met onze vrijwilligers zorgen we ervoor dat jij weer verder kunt. Een afspraak maken is niet nodig. \nThemas\n\nDecember; Hoe kom ik de dure feestmaand door\, kom ik in aanmerking voor de voedselbank?\nJanuari; Nog drie maanden de verwarming aan hoe kan ik de kosten drukken?\nFebruari\, kom ik in aanmerking voor kwijtschelding van de gemeentelijke belastingen?\nMaart\, hulp bij het invullen van de inkomstenbelasting.
URL:https://hartvanlaren.nl/op-de-agenda/humanitas-thuisadministratie/2026-06-18/
LOCATION:Brinkhuis Laren\, Brink 29\, Laren\, Noord Holland\, 1251 KT\, Nederland
CATEGORIES:Informatief,Inloopspreekuren,Senioren
ATTACH;FMTTYPE=image/jpeg:https://hartvanlaren.nl/wp-content/uploads/2025/01/DSC_3621.jpg
ORGANIZER;CN="Humanitas":MAILTO:tgooi@humanitas.nl
GEO:52.2565804;5.2261285
X-APPLE-STRUCTURED-LOCATION;VALUE=URI;X-ADDRESS=Brinkhuis Laren Brink 29 Laren Noord Holland 1251 KT Nederland;X-APPLE-RADIUS=500;X-TITLE=Brink 29:geo:5.2261285,52.2565804
END:VEVENT
END:VCALENDAR