BEGIN:VCALENDAR
VERSION:2.0
PRODID:-//Hart van Laren - ECPv6.15.20//NONSGML v1.0//EN
CALSCALE:GREGORIAN
METHOD:PUBLISH
X-WR-CALNAME:Hart van Laren
X-ORIGINAL-URL:https://hartvanlaren.nl
X-WR-CALDESC:Evenementen voor Hart van Laren
REFRESH-INTERVAL;VALUE=DURATION:PT1H
X-Robots-Tag:noindex
X-PUBLISHED-TTL:PT1H
BEGIN:VTIMEZONE
TZID:Europe/Amsterdam
BEGIN:DAYLIGHT
TZOFFSETFROM:+0100
TZOFFSETTO:+0200
TZNAME:CEST
DTSTART:20250330T010000
END:DAYLIGHT
BEGIN:STANDARD
TZOFFSETFROM:+0200
TZOFFSETTO:+0100
TZNAME:CET
DTSTART:20251026T010000
END:STANDARD
BEGIN:DAYLIGHT
TZOFFSETFROM:+0100
TZOFFSETTO:+0200
TZNAME:CEST
DTSTART:20260329T010000
END:DAYLIGHT
BEGIN:STANDARD
TZOFFSETFROM:+0200
TZOFFSETTO:+0100
TZNAME:CET
DTSTART:20261025T010000
END:STANDARD
BEGIN:DAYLIGHT
TZOFFSETFROM:+0100
TZOFFSETTO:+0200
TZNAME:CEST
DTSTART:20270328T010000
END:DAYLIGHT
BEGIN:STANDARD
TZOFFSETFROM:+0200
TZOFFSETTO:+0100
TZNAME:CET
DTSTART:20271031T010000
END:STANDARD
END:VTIMEZONE
BEGIN:VEVENT
DTSTART;TZID=Europe/Amsterdam:20260918T170000
DTEND;TZID=Europe/Amsterdam:20260918T190000
DTSTAMP:20260425T215923
CREATED:20251216T104714Z
LAST-MODIFIED:20251216T105258Z
UID:10081493-1789750800-1789758000@hartvanlaren.nl
SUMMARY:Vrijwilligersfeest Laren 18 september 2026
DESCRIPTION:Vrijwilligersfeest Laren 2026\nBent u vrijwilliger in Laren? Dan nodigt de gemeente Laren u van harte uit voor het vrijwilligersfeest op 18 september 2026 in het Brinkhuis in Laren! \nU wordt verwacht om 17:00 uur voor een gezellig muzikale borrel waar ruimte is voor toespraken van Burgemeester of wethouder.  Iedereen in Laren die vrijwilligerswerk doet is van harte uitgenodigd deze avond bij te wonen. \nBedankt vrijwilligers\nDe gemeente bedankt op deze avond de vrijwilligers uit het dorp en wil haar waardering tonen voor fantastische inzet die zij bieden om van Laren dit mooie dorp te maken waar we trots op kunnen zijn.\nHet belooft een leuke en gezellige avond te worden. Na het welkomstwoord van burgemeester of wethouder kunt u naast een drankje en een hapje (van de BBQ) weer eens gezellig bijpraten. Daarnaast hebben wij nog wat entertainment georganiseerd voor tijdens de borrel. \nAanmelden\nWij hebben gezocht naar een goede locatie die echter zo als elke locatie enige beperkingen kent\, dus reageer snel. Dit doet u als volgt: wilt u zich voor 11 september 2026 aanmelden via deze website \nWanneer u klikt op de button IK GA kunt u uw gegevens achterlaten en het aantal gasten doorgeven. \nIs het voor u niet mogelijk om online te registreren\, stuurt u dan een mail naar publiciteit@hartvanlaren.nl onder vermelding van vrijwilligersavond met daarin: \n1. Naam:\n2. Naam vereniging/instelling:\n3. Aantal personen:\n4. Dieetwensen en of allergieën:
URL:https://hartvanlaren.nl/op-de-agenda/vrijwilligersfeest-2026/
LOCATION:Brinkhuis Laren\, Brink 29\, Laren\, Noord Holland\, 1251 KT\, Nederland
CATEGORIES:Brinkhuis,Theater aan de Brink
ATTACH;FMTTYPE=image/jpeg:https://hartvanlaren.nl/wp-content/uploads/2025/12/20260918-Vrijwilligersfeest-vk.jpg
ORGANIZER;CN="Gemeente Laren":MAILTO:info@laren.nl
GEO:52.2565804;5.2261285
X-APPLE-STRUCTURED-LOCATION;VALUE=URI;X-ADDRESS=Brinkhuis Laren Brink 29 Laren Noord Holland 1251 KT Nederland;X-APPLE-RADIUS=500;X-TITLE=Brink 29:geo:5.2261285,52.2565804
END:VEVENT
END:VCALENDAR