BEGIN:VCALENDAR
VERSION:2.0
PRODID:-//Hart van Laren - ECPv6.15.20//NONSGML v1.0//EN
CALSCALE:GREGORIAN
METHOD:PUBLISH
X-WR-CALNAME:Hart van Laren
X-ORIGINAL-URL:https://hartvanlaren.nl
X-WR-CALDESC:Evenementen voor Hart van Laren
REFRESH-INTERVAL;VALUE=DURATION:PT1H
X-Robots-Tag:noindex
X-PUBLISHED-TTL:PT1H
BEGIN:VTIMEZONE
TZID:Europe/Amsterdam
BEGIN:DAYLIGHT
TZOFFSETFROM:+0100
TZOFFSETTO:+0200
TZNAME:CEST
DTSTART:20240331T010000
END:DAYLIGHT
BEGIN:STANDARD
TZOFFSETFROM:+0200
TZOFFSETTO:+0100
TZNAME:CET
DTSTART:20241027T010000
END:STANDARD
BEGIN:DAYLIGHT
TZOFFSETFROM:+0100
TZOFFSETTO:+0200
TZNAME:CEST
DTSTART:20250330T010000
END:DAYLIGHT
BEGIN:STANDARD
TZOFFSETFROM:+0200
TZOFFSETTO:+0100
TZNAME:CET
DTSTART:20251026T010000
END:STANDARD
BEGIN:DAYLIGHT
TZOFFSETFROM:+0100
TZOFFSETTO:+0200
TZNAME:CEST
DTSTART:20260329T010000
END:DAYLIGHT
BEGIN:STANDARD
TZOFFSETFROM:+0200
TZOFFSETTO:+0100
TZNAME:CET
DTSTART:20261025T010000
END:STANDARD
END:VTIMEZONE
BEGIN:VEVENT
DTSTART;TZID=Europe/Amsterdam:20250702T133000
DTEND;TZID=Europe/Amsterdam:20250702T170000
DTSTAMP:20260426T060116
CREATED:20250115T132652Z
LAST-MODIFIED:20250115T134459Z
UID:10051091-1751463000-1751475600@hartvanlaren.nl
SUMMARY:Workshop Lastpakken en Buitenbeentjes - Annet Brinkhuis
DESCRIPTION:Workshop Lastpakken en Buitenbeentjes – Annet Brinkhuis\nAnnet Brinkhuis opleidingen geeft op 2 juli van 13:30-17:00 uur de workshop Lastpakken en Buitenbeentjes. Bereid je voor op lastige cliënten. € 250 ex BTW. \nAanmelden bij Annet Brinkhuis Opleidingen\nIn deze workshop bespreken we de lastpakken en buitenbeentjes die je in de praktijk kunt tegenkomen. Het lijkt steeds vaker voor te komen: cliënten die extra lastig zijn om mee te werken. Hoe goed ben je hierop voorbereid? Sommige cliënten kunnen je in gesprekken tot wanhoop drijven. \nIn de workshop behandelen we: \n\nHerkennen van lastige cliënten: wat zijn de meest voorkomende kenmerken en gedragingen van ‘moeilijke’ cliënten?\nInzicht in gedrag en achtergrond: wat speelt er mogelijk op de achtergrond bij deze cliënten? We verkennen termen en concepten uit de psychologie en psychiatrie die verklaringen kunnen bieden.\nHoe je als coach het gesprek kunt sturen: praktische technieken om de regie te behouden\, het gesprek constructief te maken en zelf met een goed gevoel het gesprek af te sluiten.\n\nMet deze workshop krijg je meer grip op lastige situaties\, zodat je effectiever kunt omgaan met cliënten die anders zijn. \nKosten:\n€ 250\,00 excl. 21% btw \nData 2025:\nWoensdagmiddag 2 juli 13.30 – 17.00
URL:https://hartvanlaren.nl/op-de-agenda/workshop-lastpakken-en-buitenbeentjes-annet-brinkhuis/
LOCATION:Brinkhuis Laren\, Brink 29\, Laren\, Noord Holland\, 1251 KT\, Nederland
CATEGORIES:Informatief,Lezing
ATTACH;FMTTYPE=image/jpeg:https://hartvanlaren.nl/wp-content/uploads/2025/01/workshop-lastpakken-en-buitenbeentjes-Annet-Brinkhuis-Opleidingen.jpg
ORGANIZER;CN="Annet Brinkhuis Opleidingen":MAILTO:info@annetbrinkhuisopleidingen.nl
GEO:52.2565804;5.2261285
X-APPLE-STRUCTURED-LOCATION;VALUE=URI;X-ADDRESS=Brinkhuis Laren Brink 29 Laren Noord Holland 1251 KT Nederland;X-APPLE-RADIUS=500;X-TITLE=Brink 29:geo:5.2261285,52.2565804
END:VEVENT
BEGIN:VEVENT
DTSTART;TZID=Europe/Amsterdam:20250618T133000
DTEND;TZID=Europe/Amsterdam:20250618T170000
DTSTAMP:20260426T060116
CREATED:20250115T133959Z
LAST-MODIFIED:20250115T133959Z
UID:10051092-1750253400-1750266000@hartvanlaren.nl
SUMMARY:Workshop Vergruizen van belemmerende overtuigingen - Annet Brinkhuis
DESCRIPTION:Workshop Vergruizen van belemmerende overtuigingen – Annet Brinkhuis\nAnnet Brinkhuis opleidingen geeft op 18 juni van 13:30-17:00 uur de workshop Vergruizen van belemmerende overtuigingen in het Brinkhuis Laren. € 250 ex BTW. \nAanmelden bij Annet Brinkhuis Opleidingen\nIn loopbaantrajecten stuiten we vaak op een sterk contrast tussen de dromen van de cliënt en hun belemmerende overtuigingen – ook wel de polariteit tussen verlangen en angst genoemd. Op het moment dat je samen ontdekt wat de cliënt écht blij maakt en waar zijn drijfveren liggen\, komen vaak juist die overtuigingen aan de oppervlakte die hem tegenhouden. \nIn deze workshop leer je: \n\nHoe je cliënten kunt laten dromen: hoe stimuleer je hen om verder te kijken dan hun belemmeringen?\nHoe je cliënten helpt hun persoonlijke drijfveren te ontdekken: wat motiveert hen echt?\nHoe je als coach met beperkende overtuigingen omgaat: welke technieken kun je inzetten om deze aan te pakken?\nHoe je belemmerende overtuigingen bij de cliënt kunt ‘vergruizen’: welke stappen en interventies helpen om deze blokkades los te laten?\n\nBelemmerende overtuigingen zijn vaak diepgewortelde gedachten\, meestal gevormd in de vroege jeugd. In deze workshop ga je met verschillende werkvormen aan de slag om het ‘authentieke zelf’ van de cliënt naar boven te halen\, de kracht die in iedere cliënt besloten ligt. \nDaarnaast oefenen we praktische interviewtechnieken die je helpen deze overtuigingen beter te begrijpen en te doorbreken. \nKosten:\n€ 250\,00 excl. 21% btw \nData 2025:\nWoensdagmiddag 18 juni 13.30 – 17.00 \n 
URL:https://hartvanlaren.nl/op-de-agenda/workshop-belemmerende-gedachten-annet-brinkhuis/
LOCATION:Brinkhuis Laren\, Brink 29\, Laren\, Noord Holland\, 1251 KT\, Nederland
CATEGORIES:Informatief,Lezing
ATTACH;FMTTYPE=image/jpeg:https://hartvanlaren.nl/wp-content/uploads/2025/01/workshop-Vergruizen-van-belemmerende-overtuigingen.jpg
ORGANIZER;CN="Annet Brinkhuis Opleidingen":MAILTO:info@annetbrinkhuisopleidingen.nl
GEO:52.2565804;5.2261285
X-APPLE-STRUCTURED-LOCATION;VALUE=URI;X-ADDRESS=Brinkhuis Laren Brink 29 Laren Noord Holland 1251 KT Nederland;X-APPLE-RADIUS=500;X-TITLE=Brink 29:geo:5.2261285,52.2565804
END:VEVENT
END:VCALENDAR