BEGIN:VCALENDAR
VERSION:2.0
PRODID:-//Hart van Laren - ECPv6.15.20//NONSGML v1.0//EN
CALSCALE:GREGORIAN
METHOD:PUBLISH
X-WR-CALNAME:Hart van Laren
X-ORIGINAL-URL:https://hartvanlaren.nl
X-WR-CALDESC:Evenementen voor Hart van Laren
REFRESH-INTERVAL;VALUE=DURATION:PT1H
X-Robots-Tag:noindex
X-PUBLISHED-TTL:PT1H
BEGIN:VTIMEZONE
TZID:Europe/Amsterdam
BEGIN:DAYLIGHT
TZOFFSETFROM:+0100
TZOFFSETTO:+0200
TZNAME:CEST
DTSTART:20250330T010000
END:DAYLIGHT
BEGIN:STANDARD
TZOFFSETFROM:+0200
TZOFFSETTO:+0100
TZNAME:CET
DTSTART:20251026T010000
END:STANDARD
BEGIN:DAYLIGHT
TZOFFSETFROM:+0100
TZOFFSETTO:+0200
TZNAME:CEST
DTSTART:20260329T010000
END:DAYLIGHT
BEGIN:STANDARD
TZOFFSETFROM:+0200
TZOFFSETTO:+0100
TZNAME:CET
DTSTART:20261025T010000
END:STANDARD
BEGIN:DAYLIGHT
TZOFFSETFROM:+0100
TZOFFSETTO:+0200
TZNAME:CEST
DTSTART:20270328T010000
END:DAYLIGHT
BEGIN:STANDARD
TZOFFSETFROM:+0200
TZOFFSETTO:+0100
TZNAME:CET
DTSTART:20271031T010000
END:STANDARD
END:VTIMEZONE
BEGIN:VEVENT
DTSTART;TZID=Europe/Amsterdam:20260508T100000
DTEND;TZID=Europe/Amsterdam:20260508T130000
DTSTAMP:20260425T165842
CREATED:20251002T090901Z
LAST-MODIFIED:20260128T125835Z
UID:10082515-1778234400-1778245200@hartvanlaren.nl
SUMMARY:Workshop Weven Laren - 4 lessen 2026
DESCRIPTION:Workshop Weven Basisbindingen op 4 schachten\nVolg de Workshop Basisbindingen op 4 schachten van Weefnetwerk in het Brinkhuis in Laren. 4 Lessen vanaf 8 mei 2026 voor € 180 (voor leden Weefnetwerk € 160). Het betreft een vervolcursus op de eerdere weefcursus: Basisbindingen op 4 schachten. Mocht u deze niet gevolgd hebben dan kunt u bij docente Anja Lanphen informatie opvragen voor een eventuele extra basis cursus. \n\nCursus 1: 8 mei 2026\, 5 juni\, 10 juli en 28 augustus van 10.00 – 13.00 uur\n\nAanmelden bij Weefnetwerk \nWe gaan in deze cursus aan de slag met de linnenbinding\, kepers en variaties hierop; o.a. wafelweefsel en schaduwweefsel. Ook komen bindingstekeningen\, materiaalkennis en kleurenleer aan bod.De cursus bestaat uit 3 theoretische lessen en in de laatste les bespreken we elkaars werk – steeds met een aantal weken ertussen\, zodat de weefsels op het eigen 4 schachtsgetouw (thuis) geoefend kunnen worden. \nInformatie\n\nDocent: Anja Lanphen\nLocatie: Brinkhuis\, Brink 29\, 1251 KT Laren NH\nAantal deelnemers: minimaal 4\, maximaal 12\nLesgeld: Standaard € 180\,– | voor leden WEEFNETWERK € 160\,–.\nDe cursus gaat door indien het minimum aantal cursisten is bereikt.\n\nOverige informatie:\nEr wordt van je  verwacht dat je zelfstandig een (eigen) getouw kunt opzetten en eenvoudige bindingen kan weven. Als je de basiscursus getouwweven gevolgd hebt\, heb je voldoende basis. Bij vragen over niveau of getouw huren graag contact opnemen. \nNadere informatie verkrijgbaar via anjalanphen@gmail.com \n\n 
URL:https://hartvanlaren.nl/op-de-agenda/workshop-weven-laren-4-lessen-2/2026-05-08/
LOCATION:Brinkhuis Laren\, Brink 29\, Laren\, Noord Holland\, 1251 KT\, Nederland
CATEGORIES:Brinkhuis,Creatief
ATTACH;FMTTYPE=image/jpeg:https://hartvanlaren.nl/wp-content/uploads/2025/10/20260508-Weefnetwerk-Workshop-Weven-vk.jpg
ORGANIZER;CN="Brinkhuis Laren":MAILTO:info@hartvanlaren.nl
GEO:52.2565804;5.2261285
X-APPLE-STRUCTURED-LOCATION;VALUE=URI;X-ADDRESS=Brinkhuis Laren Brink 29 Laren Noord Holland 1251 KT Nederland;X-APPLE-RADIUS=500;X-TITLE=Brink 29:geo:5.2261285,52.2565804
END:VEVENT
BEGIN:VEVENT
DTSTART;TZID=Europe/Amsterdam:20260605T100000
DTEND;TZID=Europe/Amsterdam:20260605T130000
DTSTAMP:20260425T165842
CREATED:20251002T090901Z
LAST-MODIFIED:20260128T125835Z
UID:10080842-1780653600-1780664400@hartvanlaren.nl
SUMMARY:Workshop Weven Laren - 4 lessen 2026
DESCRIPTION:Workshop Weven Basisbindingen op 4 schachten\nVolg de Workshop Basisbindingen op 4 schachten van Weefnetwerk in het Brinkhuis in Laren. 4 Lessen vanaf 8 mei 2026 voor € 180 (voor leden Weefnetwerk € 160). Het betreft een vervolcursus op de eerdere weefcursus: Basisbindingen op 4 schachten. Mocht u deze niet gevolgd hebben dan kunt u bij docente Anja Lanphen informatie opvragen voor een eventuele extra basis cursus. \n\nCursus 1: 8 mei 2026\, 5 juni\, 10 juli en 28 augustus van 10.00 – 13.00 uur\n\nAanmelden bij Weefnetwerk \nWe gaan in deze cursus aan de slag met de linnenbinding\, kepers en variaties hierop; o.a. wafelweefsel en schaduwweefsel. Ook komen bindingstekeningen\, materiaalkennis en kleurenleer aan bod.De cursus bestaat uit 3 theoretische lessen en in de laatste les bespreken we elkaars werk – steeds met een aantal weken ertussen\, zodat de weefsels op het eigen 4 schachtsgetouw (thuis) geoefend kunnen worden. \nInformatie\n\nDocent: Anja Lanphen\nLocatie: Brinkhuis\, Brink 29\, 1251 KT Laren NH\nAantal deelnemers: minimaal 4\, maximaal 12\nLesgeld: Standaard € 180\,– | voor leden WEEFNETWERK € 160\,–.\nDe cursus gaat door indien het minimum aantal cursisten is bereikt.\n\nOverige informatie:\nEr wordt van je  verwacht dat je zelfstandig een (eigen) getouw kunt opzetten en eenvoudige bindingen kan weven. Als je de basiscursus getouwweven gevolgd hebt\, heb je voldoende basis. Bij vragen over niveau of getouw huren graag contact opnemen. \nNadere informatie verkrijgbaar via anjalanphen@gmail.com \n\n 
URL:https://hartvanlaren.nl/op-de-agenda/workshop-weven-laren-4-lessen-2/2026-06-05/
LOCATION:Brinkhuis Laren\, Brink 29\, Laren\, Noord Holland\, 1251 KT\, Nederland
CATEGORIES:Brinkhuis,Creatief
ATTACH;FMTTYPE=image/jpeg:https://hartvanlaren.nl/wp-content/uploads/2025/10/20260508-Weefnetwerk-Workshop-Weven-vk.jpg
ORGANIZER;CN="Brinkhuis Laren":MAILTO:info@hartvanlaren.nl
GEO:52.2565804;5.2261285
X-APPLE-STRUCTURED-LOCATION;VALUE=URI;X-ADDRESS=Brinkhuis Laren Brink 29 Laren Noord Holland 1251 KT Nederland;X-APPLE-RADIUS=500;X-TITLE=Brink 29:geo:5.2261285,52.2565804
END:VEVENT
BEGIN:VEVENT
DTSTART;TZID=Europe/Amsterdam:20260710T100000
DTEND;TZID=Europe/Amsterdam:20260710T130000
DTSTAMP:20260425T165842
CREATED:20251002T090901Z
LAST-MODIFIED:20260128T125835Z
UID:10080843-1783677600-1783688400@hartvanlaren.nl
SUMMARY:Workshop Weven Laren - 4 lessen 2026
DESCRIPTION:Workshop Weven Basisbindingen op 4 schachten\nVolg de Workshop Basisbindingen op 4 schachten van Weefnetwerk in het Brinkhuis in Laren. 4 Lessen vanaf 8 mei 2026 voor € 180 (voor leden Weefnetwerk € 160). Het betreft een vervolcursus op de eerdere weefcursus: Basisbindingen op 4 schachten. Mocht u deze niet gevolgd hebben dan kunt u bij docente Anja Lanphen informatie opvragen voor een eventuele extra basis cursus. \n\nCursus 1: 8 mei 2026\, 5 juni\, 10 juli en 28 augustus van 10.00 – 13.00 uur\n\nAanmelden bij Weefnetwerk \nWe gaan in deze cursus aan de slag met de linnenbinding\, kepers en variaties hierop; o.a. wafelweefsel en schaduwweefsel. Ook komen bindingstekeningen\, materiaalkennis en kleurenleer aan bod.De cursus bestaat uit 3 theoretische lessen en in de laatste les bespreken we elkaars werk – steeds met een aantal weken ertussen\, zodat de weefsels op het eigen 4 schachtsgetouw (thuis) geoefend kunnen worden. \nInformatie\n\nDocent: Anja Lanphen\nLocatie: Brinkhuis\, Brink 29\, 1251 KT Laren NH\nAantal deelnemers: minimaal 4\, maximaal 12\nLesgeld: Standaard € 180\,– | voor leden WEEFNETWERK € 160\,–.\nDe cursus gaat door indien het minimum aantal cursisten is bereikt.\n\nOverige informatie:\nEr wordt van je  verwacht dat je zelfstandig een (eigen) getouw kunt opzetten en eenvoudige bindingen kan weven. Als je de basiscursus getouwweven gevolgd hebt\, heb je voldoende basis. Bij vragen over niveau of getouw huren graag contact opnemen. \nNadere informatie verkrijgbaar via anjalanphen@gmail.com \n\n 
URL:https://hartvanlaren.nl/op-de-agenda/workshop-weven-laren-4-lessen-2/2026-07-10/
LOCATION:Brinkhuis Laren\, Brink 29\, Laren\, Noord Holland\, 1251 KT\, Nederland
CATEGORIES:Brinkhuis,Creatief
ATTACH;FMTTYPE=image/jpeg:https://hartvanlaren.nl/wp-content/uploads/2025/10/20260508-Weefnetwerk-Workshop-Weven-vk.jpg
ORGANIZER;CN="Brinkhuis Laren":MAILTO:info@hartvanlaren.nl
GEO:52.2565804;5.2261285
X-APPLE-STRUCTURED-LOCATION;VALUE=URI;X-ADDRESS=Brinkhuis Laren Brink 29 Laren Noord Holland 1251 KT Nederland;X-APPLE-RADIUS=500;X-TITLE=Brink 29:geo:5.2261285,52.2565804
END:VEVENT
BEGIN:VEVENT
DTSTART;TZID=Europe/Amsterdam:20260828T100000
DTEND;TZID=Europe/Amsterdam:20260828T130000
DTSTAMP:20260425T165842
CREATED:20251002T090901Z
LAST-MODIFIED:20260128T125835Z
UID:10080844-1787911200-1787922000@hartvanlaren.nl
SUMMARY:Workshop Weven Laren - 4 lessen 2026
DESCRIPTION:Workshop Weven Basisbindingen op 4 schachten\nVolg de Workshop Basisbindingen op 4 schachten van Weefnetwerk in het Brinkhuis in Laren. 4 Lessen vanaf 8 mei 2026 voor € 180 (voor leden Weefnetwerk € 160). Het betreft een vervolcursus op de eerdere weefcursus: Basisbindingen op 4 schachten. Mocht u deze niet gevolgd hebben dan kunt u bij docente Anja Lanphen informatie opvragen voor een eventuele extra basis cursus. \n\nCursus 1: 8 mei 2026\, 5 juni\, 10 juli en 28 augustus van 10.00 – 13.00 uur\n\nAanmelden bij Weefnetwerk \nWe gaan in deze cursus aan de slag met de linnenbinding\, kepers en variaties hierop; o.a. wafelweefsel en schaduwweefsel. Ook komen bindingstekeningen\, materiaalkennis en kleurenleer aan bod.De cursus bestaat uit 3 theoretische lessen en in de laatste les bespreken we elkaars werk – steeds met een aantal weken ertussen\, zodat de weefsels op het eigen 4 schachtsgetouw (thuis) geoefend kunnen worden. \nInformatie\n\nDocent: Anja Lanphen\nLocatie: Brinkhuis\, Brink 29\, 1251 KT Laren NH\nAantal deelnemers: minimaal 4\, maximaal 12\nLesgeld: Standaard € 180\,– | voor leden WEEFNETWERK € 160\,–.\nDe cursus gaat door indien het minimum aantal cursisten is bereikt.\n\nOverige informatie:\nEr wordt van je  verwacht dat je zelfstandig een (eigen) getouw kunt opzetten en eenvoudige bindingen kan weven. Als je de basiscursus getouwweven gevolgd hebt\, heb je voldoende basis. Bij vragen over niveau of getouw huren graag contact opnemen. \nNadere informatie verkrijgbaar via anjalanphen@gmail.com \n\n 
URL:https://hartvanlaren.nl/op-de-agenda/workshop-weven-laren-4-lessen-2/2026-08-28/
LOCATION:Brinkhuis Laren\, Brink 29\, Laren\, Noord Holland\, 1251 KT\, Nederland
CATEGORIES:Brinkhuis,Creatief
ATTACH;FMTTYPE=image/jpeg:https://hartvanlaren.nl/wp-content/uploads/2025/10/20260508-Weefnetwerk-Workshop-Weven-vk.jpg
ORGANIZER;CN="Brinkhuis Laren":MAILTO:info@hartvanlaren.nl
GEO:52.2565804;5.2261285
X-APPLE-STRUCTURED-LOCATION;VALUE=URI;X-ADDRESS=Brinkhuis Laren Brink 29 Laren Noord Holland 1251 KT Nederland;X-APPLE-RADIUS=500;X-TITLE=Brink 29:geo:5.2261285,52.2565804
END:VEVENT
END:VCALENDAR