BEGIN:VCALENDAR
VERSION:2.0
PRODID:-//Hart van Laren - ECPv6.15.20//NONSGML v1.0//EN
CALSCALE:GREGORIAN
METHOD:PUBLISH
X-WR-CALNAME:Hart van Laren
X-ORIGINAL-URL:https://hartvanlaren.nl
X-WR-CALDESC:Evenementen voor Hart van Laren
REFRESH-INTERVAL;VALUE=DURATION:PT1H
X-Robots-Tag:noindex
X-PUBLISHED-TTL:PT1H
BEGIN:VTIMEZONE
TZID:Europe/Amsterdam
BEGIN:DAYLIGHT
TZOFFSETFROM:+0100
TZOFFSETTO:+0200
TZNAME:CEST
DTSTART:20250330T010000
END:DAYLIGHT
BEGIN:STANDARD
TZOFFSETFROM:+0200
TZOFFSETTO:+0100
TZNAME:CET
DTSTART:20251026T010000
END:STANDARD
BEGIN:DAYLIGHT
TZOFFSETFROM:+0100
TZOFFSETTO:+0200
TZNAME:CEST
DTSTART:20260329T010000
END:DAYLIGHT
BEGIN:STANDARD
TZOFFSETFROM:+0200
TZOFFSETTO:+0100
TZNAME:CET
DTSTART:20261025T010000
END:STANDARD
BEGIN:DAYLIGHT
TZOFFSETFROM:+0100
TZOFFSETTO:+0200
TZNAME:CEST
DTSTART:20270328T010000
END:DAYLIGHT
BEGIN:STANDARD
TZOFFSETFROM:+0200
TZOFFSETTO:+0100
TZNAME:CET
DTSTART:20271031T010000
END:STANDARD
END:VTIMEZONE
BEGIN:VEVENT
DTSTART;VALUE=DATE:20260425
DTEND;VALUE=DATE:20260426
DTSTAMP:20260425T133615
CREATED:20260310T142733Z
LAST-MODIFIED:20260310T142733Z
UID:10083069-1777075200-1777161599@hartvanlaren.nl
SUMMARY:Workshop Bordje Vol voor mantelzorgers
DESCRIPTION:Workshop Bordje Vol voor mantelzorgers\n2x per jaar organiseert Versa Welzijn workshops ‘Bordje Vol’ voor mantelzorgers uit Blaricum\, Eemnes en Laren om de mantelzorg voor hun naaste zo goed mogelijk te plannen en zo lang mogelijk vol te houden. \nZorgt u voor een naaste? Dan nodigen we u graag uit voor onze workshop ‘Bordje Vol’. Wat ligt er allemaal op úw bordje? Wat kan er van af en wie kan u daar bij helpen? De methode van ‘Bordje Vol’ geeft spelenderwijs inzicht in zaken die u energie kosten en zaken die u energie geven. Dit gebeurt door middel van een kaartspel. U ziet welke veranderingen wenselijk zijn en maakt een persoonlijk plan om de eerste stappen te zetten. De workshop wordt gegeven door Afke Nijhof en Serena Stad\, medewerker Versa Welzijn mantelzorgondersteuning in Blaricum\, Eemnes en Laren. \nAan deelname zijn geen kosten verbonden. Er is ruimte voor 6 personen per workshop\, vol = vol. Bij veel belangstelling zullen we mogelijk extra workshops plannen. \nAanmelden via zorgvoorelkaar@versawelzijn.nl
URL:https://hartvanlaren.nl/op-de-agenda/workshop-mantelzorgers/2026-04-25/
LOCATION:Brinkhuis Laren\, Brink 29\, Laren\, Noord Holland\, 1251 KT\, Nederland
ATTACH;FMTTYPE=image/jpeg:https://hartvanlaren.nl/wp-content/uploads/2024/11/Workshop-bordje-vol-2026_page-0001.jpg
ORGANIZER;CN="Versa Welzijn":MAILTO:BuurtwerkBEL@versawelzijn.nl
GEO:52.2565804;5.2261285
X-APPLE-STRUCTURED-LOCATION;VALUE=URI;X-ADDRESS=Brinkhuis Laren Brink 29 Laren Noord Holland 1251 KT Nederland;X-APPLE-RADIUS=500;X-TITLE=Brink 29:geo:5.2261285,52.2565804
END:VEVENT
BEGIN:VEVENT
DTSTART;VALUE=DATE:20260425
DTEND;VALUE=DATE:20260426
DTSTAMP:20260425T133615
CREATED:20260404T133143Z
LAST-MODIFIED:20260404T133143Z
UID:10083164-1777075200-1777161599@hartvanlaren.nl
SUMMARY:Expositie Nanny Blank - Foyer
DESCRIPTION:Expositie Nanny Blank – Foyer 20 april-21 jun 2026\nDe Larense kunstenares Nanny Blank exposeert van 20 april tm 21 juni in de foyer van het Brinkhuis in Laren met haar beelden. \nAl vele jaren boetseer ik met was om de beelden vervolgens te laten gieten in brons of kunsthars. De onderwerpen lopen uiteen van grote tot kleine beelden\, van mens en dier. Ik werk ook in opdracht\, denk bijv. aan je huisdier\, een favoriete plek etc.\nAlles op maat en naar wens. \nVerder schilder ik\, meestal met acryl en pasta. Het stadhuis van Naarden\, Moeke Spijkstra\, vogels\, paarden \, alpaca`s en nog veel meer. Voorheen had ik het bedrijf Vernissage in het Fort Werk IV in Bussum. *Pionier van fort Werk IV *
URL:https://hartvanlaren.nl/op-de-agenda/expositie-nanny-blank-foyer/2026-04-25/
LOCATION:Brinkhuis Laren\, Brink 29\, Laren\, Noord Holland\, 1251 KT\, Nederland
CATEGORIES:(h)Artgalerij,Kunst
ATTACH;FMTTYPE=image/webp:https://hartvanlaren.nl/wp-content/uploads/2026/04/Nanny-Blank-in-haar-atelier.webp
ORGANIZER;CN="Brinkhuis Laren":MAILTO:info@hartvanlaren.nl
GEO:52.2565804;5.2261285
X-APPLE-STRUCTURED-LOCATION;VALUE=URI;X-ADDRESS=Brinkhuis Laren Brink 29 Laren Noord Holland 1251 KT Nederland;X-APPLE-RADIUS=500;X-TITLE=Brink 29:geo:5.2261285,52.2565804
END:VEVENT
BEGIN:VEVENT
DTSTART;VALUE=DATE:20260425
DTEND;VALUE=DATE:20260426
DTSTAMP:20260425T133615
CREATED:20260404T133946Z
LAST-MODIFIED:20260411T080449Z
UID:10083213-1777075200-1777161599@hartvanlaren.nl
SUMMARY:Expositie Har Bulters – Van schets naar ziel 25 apr - 25 jun 2026
DESCRIPTION:Expositie Har Bulters – Van schets naar ziel\nOp zaterdag 25 april 2026 (15:00 uur) opent de expositie ‘Van schets naar ziel” van Har Bulters in de (h)Artgalerij van het Brinkhuis. De expositie is gratis te zien tot 25 juni 2026. Dus ook te zien tijdens de Atelierroute Laren en tijdens de Kunstmaand Laren! \n\n 
URL:https://hartvanlaren.nl/op-de-agenda/expositie-har-bulters-popsterren/2026-04-25/
LOCATION:Brinkhuis Laren\, Brink 29\, Laren\, Noord Holland\, 1251 KT\, Nederland
CATEGORIES:(h)Artgalerij,Kunst
ATTACH;FMTTYPE=image/jpeg:https://hartvanlaren.nl/wp-content/uploads/2026/04/IMG-20260403-WA0039.jpg
ORGANIZER;CN="Brinkhuis Laren":MAILTO:info@hartvanlaren.nl
GEO:52.2565804;5.2261285
X-APPLE-STRUCTURED-LOCATION;VALUE=URI;X-ADDRESS=Brinkhuis Laren Brink 29 Laren Noord Holland 1251 KT Nederland;X-APPLE-RADIUS=500;X-TITLE=Brink 29:geo:5.2261285,52.2565804
END:VEVENT
BEGIN:VEVENT
DTSTART;TZID=Europe/Amsterdam:20260425T093000
DTEND;TZID=Europe/Amsterdam:20260425T163000
DTSTAMP:20260425T133615
CREATED:20250722T154220Z
LAST-MODIFIED:20260316T181500Z
UID:10083128-1777109400-1777134600@hartvanlaren.nl
SUMMARY:Boetseren van een menselijk figuur in was – Volksuniversiteit
DESCRIPTION:Boetseren van een menselijk figuur in was – Volksuniversiteit\nOp 25 april om 9.30 uur 2026 start in het Brinkhuis de cursus Boetseren van een menselijk figuur in was van de Volksuniversiteit het Gooi. De cursus bestaat uit 1 les van 7 uur\, de kosten zijn € 75\,00 plus € 25\,00 materiaalkosten\, te betalen tijdens de eerste les. \nLeer model boetseren van de bekende beeldhouwer Ton van der Linden. Je krijgt de hele vrijdag les en leert de fijne kneepjes van het boetseervak. \nWas is een heel prettig materiaal om op een armatuur je figuur mee te vormen. In deze workshop leer je hoe je dit kunt doen. In de ochtend bouw je van aluminiumdraad een armatuur. Dit helpt je de figuur in goede menselijke proporties te vormen. Na de lunch werk je deze figuur vervolgens op in was. Je zult verbaasd zijn over het resultaat. Mocht het nog niet helemaal af zijn dan is dat geen probleem. Thuis kun je er altijd nog verder aan werken. \nDe workshop wordt gegeven in het gezellige atelier in de tuin van het Brinkhuis in Laren. De docent zorgt voor alle materialen. (armatuurdraad\, onderplaat en een plaat boetseerwas) De materialen kosten €25 en u rekent dit bedrag contant met de docent af. De lunch is voor eigen rekening. \nTon van der Linden staat bekend om zijn ranke bronzen beelden met veel dynamiek. Hij exposeert regelmatig en geeft deze workshop al enkele jaren op verschillende locaties. \nImpressie\n\n 
URL:https://hartvanlaren.nl/op-de-agenda/boetseren-van-een-menselijk-figuur-in-was-volksuniversiteit/
LOCATION:Brinkhuis Laren\, Brink 29\, Laren\, Noord Holland\, 1251 KT\, Nederland
CATEGORIES:Creatief,Volksuniversiteit
ATTACH;FMTTYPE=image/jpeg:https://hartvanlaren.nl/wp-content/uploads/2025/07/20260313-Boetseren-Ton-van-der-Linden-Volksuniversiteit-47.jpg
ORGANIZER;CN="Volksuniversiteit Het Gooi":MAILTO:info@volksuniversiteithetgooi.nl
GEO:52.2565804;5.2261285
X-APPLE-STRUCTURED-LOCATION;VALUE=URI;X-ADDRESS=Brinkhuis Laren Brink 29 Laren Noord Holland 1251 KT Nederland;X-APPLE-RADIUS=500;X-TITLE=Brink 29:geo:5.2261285,52.2565804
END:VEVENT
BEGIN:VEVENT
DTSTART;TZID=Europe/Amsterdam:20260425T110000
DTEND;TZID=Europe/Amsterdam:20260425T123000
DTSTAMP:20260425T133615
CREATED:20251111T121443Z
LAST-MODIFIED:20260305T110939Z
UID:10080930-1777114800-1777120200@hartvanlaren.nl
SUMMARY:Pannenkoekenfilm 25 apr 2026
DESCRIPTION:Pannenkoekenfilm 25 april 2026 AL\nKom op zaterdag 25 april 2026 papa\, mama\, oma of opa naar het Brinkhuis voor de Pannenkoekenfilm. De film begint om 11:00 uur en duurt ca 1 uurtje. Aansluitend zijn er pannenkoeken en limonade! \nPrijs per persoon € 10.00 \nTijdens het jaarlijkse Grote Piekepolderfestival loopt werkelijk alles in de soep. Gelukkig staat de brandweerman samen met zijn team\, altijd paraat om de dag te redden. \nBoek hier online je kaartjes! \nHet Brinkhuis mag helaas geen films publiceren op de website – Meld u aan voor de nieuwsbrief of bekijk de filmposter in het Brinkhuis voor de naam en informatie over de betreffende film. Ook kun je op de pagina films de film kalender downloaden. \n\n 
URL:https://hartvanlaren.nl/op-de-agenda/pannenkoekenfilm-25-apr-2026/
LOCATION:Brinkhuis Laren\, Brink 29\, Laren\, Noord Holland\, 1251 KT\, Nederland
CATEGORIES:Film aan de Brink,Kids
ATTACH;FMTTYPE=image/jpeg:https://hartvanlaren.nl/wp-content/uploads/2024/01/Pannenkoekenfilm-zonder-leeftijd.jpg
ORGANIZER;CN="Brinkhuis Laren":MAILTO:info@hartvanlaren.nl
GEO:52.2565804;5.2261285
X-APPLE-STRUCTURED-LOCATION;VALUE=URI;X-ADDRESS=Brinkhuis Laren Brink 29 Laren Noord Holland 1251 KT Nederland;X-APPLE-RADIUS=500;X-TITLE=Brink 29:geo:5.2261285,52.2565804
END:VEVENT
BEGIN:VEVENT
DTSTART;TZID=Europe/Amsterdam:20260425T150000
DTEND;TZID=Europe/Amsterdam:20260425T163000
DTSTAMP:20260425T133615
CREATED:20260404T134509Z
LAST-MODIFIED:20260411T080153Z
UID:10083275-1777129200-1777134600@hartvanlaren.nl
SUMMARY:Opening Expositie Har Bulters – Van schets naar ziel 25 apr
DESCRIPTION:Expositie Har Bulters – Van schets naar ziel\nOp zaterdag 25 april 2026 (15:00 uur) opent de expositie ‘Van schets naar ziel” van Har Bulters in de (h)Artgalerij van het Brinkhuis. De expositie is gratis te zien tot 25 juni 2026. Dus ook te zien tijdens de Atelierroute Laren en tijdens de Kunstmaand Laren! \n\n 
URL:https://hartvanlaren.nl/op-de-agenda/expositie-har-bulters-opening/
LOCATION:Brinkhuis Laren\, Brink 29\, Laren\, Noord Holland\, 1251 KT\, Nederland
CATEGORIES:(h)Artgalerij,Kunst
ATTACH;FMTTYPE=image/jpeg:https://hartvanlaren.nl/wp-content/uploads/2026/04/IMG-20260403-WA0039.jpg
ORGANIZER;CN="Brinkhuis Laren":MAILTO:info@hartvanlaren.nl
GEO:52.2565804;5.2261285
X-APPLE-STRUCTURED-LOCATION;VALUE=URI;X-ADDRESS=Brinkhuis Laren Brink 29 Laren Noord Holland 1251 KT Nederland;X-APPLE-RADIUS=500;X-TITLE=Brink 29:geo:5.2261285,52.2565804
END:VEVENT
END:VCALENDAR